BEGIN:VCALENDAR
VERSION:2.0
PRODID:-//LVIMA - ECPv6.15.18//NONSGML v1.0//EN
CALSCALE:GREGORIAN
METHOD:PUBLISH
X-WR-CALNAME:LVIMA
X-ORIGINAL-URL:https://lvima.com
X-WR-CALDESC:Events for LVIMA
REFRESH-INTERVAL;VALUE=DURATION:PT1H
X-Robots-Tag:noindex
X-PUBLISHED-TTL:PT1H
BEGIN:VTIMEZONE
TZID:America/Los_Angeles
BEGIN:DAYLIGHT
TZOFFSETFROM:-0800
TZOFFSETTO:-0700
TZNAME:PDT
DTSTART:20140309T100000
END:DAYLIGHT
BEGIN:STANDARD
TZOFFSETFROM:-0700
TZOFFSETTO:-0800
TZNAME:PST
DTSTART:20141102T090000
END:STANDARD
BEGIN:DAYLIGHT
TZOFFSETFROM:-0800
TZOFFSETTO:-0700
TZNAME:PDT
DTSTART:20150308T100000
END:DAYLIGHT
BEGIN:STANDARD
TZOFFSETFROM:-0700
TZOFFSETTO:-0800
TZNAME:PST
DTSTART:20151101T090000
END:STANDARD
BEGIN:DAYLIGHT
TZOFFSETFROM:-0800
TZOFFSETTO:-0700
TZNAME:PDT
DTSTART:20160313T100000
END:DAYLIGHT
BEGIN:STANDARD
TZOFFSETFROM:-0700
TZOFFSETTO:-0800
TZNAME:PST
DTSTART:20161106T090000
END:STANDARD
END:VTIMEZONE
BEGIN:VEVENT
DTSTART;TZID=America/Los_Angeles:20150514T170000
DTEND;TZID=America/Los_Angeles:20150514T200000
DTSTAMP:20260421T044357
CREATED:20150507T195052Z
LAST-MODIFIED:20240215T231431Z
UID:10000017-1431622800-1431633600@lvima.com
SUMMARY:May 2015 Mixer - BeerVima
DESCRIPTION:LVIMA Events are members only.  Non-members may purchase a $600 annual Professional Membership that allows them to attend events.  Please note\, you must be logged in to reserve a ticket.  If you are not registered\, please go here and request an account.\n\nPlease scroll to the bottom of the page to register for the event.  Space is limited!\nOur event registration has changed!  Event registration is now done through our online ticketing system.  Please register on the site or create an account as you check out.  Existing LVIMA Members will need to set up an account through the site as well.\nAny trouble?  Contact us here
URL:https://lvima.com/events/may-2015-mixer-beervima/
LOCATION:Biergarden at the Plaza Hotel\, 1 S Main Street\, Las Vegas\, NV\, 89101\, United States
CATEGORIES:Mixer
ATTACH;FMTTYPE=image/png:https://lvima.com/wp-content/uploads/2015/05/beergarden.png
ORGANIZER;CN="Danielle Deremo":MAILTO:dderemo05@gmail.com
GEO:36.1720776;-115.1468298
X-APPLE-STRUCTURED-LOCATION;VALUE=URI;X-ADDRESS=Biergarden at the Plaza Hotel 1 S Main Street Las Vegas NV 89101 United States;X-APPLE-RADIUS=500;X-TITLE=1 S Main Street:geo:-115.1468298,36.1720776
END:VEVENT
END:VCALENDAR