BEGIN:VCALENDAR
VERSION:2.0
PRODID:-//LVIMA - ECPv6.15.18//NONSGML v1.0//EN
CALSCALE:GREGORIAN
METHOD:PUBLISH
X-WR-CALNAME:LVIMA
X-ORIGINAL-URL:https://lvima.com
X-WR-CALDESC:Events for LVIMA
REFRESH-INTERVAL;VALUE=DURATION:PT1H
X-Robots-Tag:noindex
X-PUBLISHED-TTL:PT1H
BEGIN:VTIMEZONE
TZID:America/Los_Angeles
BEGIN:DAYLIGHT
TZOFFSETFROM:-0800
TZOFFSETTO:-0700
TZNAME:PDT
DTSTART:20190310T100000
END:DAYLIGHT
BEGIN:STANDARD
TZOFFSETFROM:-0700
TZOFFSETTO:-0800
TZNAME:PST
DTSTART:20191103T090000
END:STANDARD
BEGIN:DAYLIGHT
TZOFFSETFROM:-0800
TZOFFSETTO:-0700
TZNAME:PDT
DTSTART:20200308T100000
END:DAYLIGHT
BEGIN:STANDARD
TZOFFSETFROM:-0700
TZOFFSETTO:-0800
TZNAME:PST
DTSTART:20201101T090000
END:STANDARD
BEGIN:DAYLIGHT
TZOFFSETFROM:-0800
TZOFFSETTO:-0700
TZNAME:PDT
DTSTART:20210314T100000
END:DAYLIGHT
BEGIN:STANDARD
TZOFFSETFROM:-0700
TZOFFSETTO:-0800
TZNAME:PST
DTSTART:20211107T090000
END:STANDARD
END:VTIMEZONE
BEGIN:VEVENT
DTSTART;TZID=America/Los_Angeles:20200423T120000
DTEND;TZID=America/Los_Angeles:20200423T140000
DTSTAMP:20260422T085604
CREATED:20200205T050916Z
LAST-MODIFIED:20200423T161252Z
UID:10000028-1587643200-1587650400@lvima.com
SUMMARY:Apart But Together - Stay Educated\, Entertained & Connected
DESCRIPTION:Attendees!  Any Trouble Accessing the Webinar Contact us at membership@lvima.com\nApart But Together – Stay Educated\, Entertained & Connected\nSpice up your lunch break with new industry insights! Join us as we host a session  with GumGum CEO\, Phil Schraeder\, to discuss the California Consumer Privacy Act (CCPA) and how it’s shaking up the marketing industry! Ready or not\, CCPA is here\, expanding the rights consumers have to how their data is used\, shared and stored. Ultimately\, this affects ALL brands that want to reach the right audiences and enhance user experiences. So what does this mean for brands? Phil will share some essential tips and tricks to make your business more “privacy forward.” He will also be joined by a special guest presenter\, TJ Albert\, the Director of Global Compliance and Legal Affairs at GumGum\, who will shine light on how CCPA affects  marketers from a legal standpoint. \nTake this chance to get dressed up and attend our first virtual LVIMA event! We will bring the spirit of LVIMA fellowship to a computer (very) near you! And we won’t ask what’s in that cup you’re drinking – we already know! \nOur Sponsor – GumGum\nGumGum is an artificial intelligence company with a focus on computer vision. GumGum’s mission is to unlock the value of visual content produced daily across diverse data sets. With its proprietary technology\, GumGum teaches  machines to see in order to solve hard problems. Since 2008\, the company has applied its patented capabilities to serve a variety of industries from advertising to professional sports\, with more to come. \nFor more on GumGum\, click here. \nOur Speakers\nAbout Phil\nPhil Schraeder is a seasoned media industry executive and recognized thought leader on the subjects of digital advertising and programmatic technologies. As Chief Executive Officer\, Schraeder is responsible for GumGum’s success in revolutionizing the digital media and sports marketing industries. He is a regular contributor to Adweek\, AdExchanger and Fortune\, and a 2017 Los Angeles Business Journal’s CFO of the Year award honoree. Schraeder\, who joined GumGum in 2011\, served previously as the company’s President\, Chief Operating Officer and Chief Financial Officer. In those roles\, he developed the management\, revenue\, planning\, accounting\, controls and human resources infrastructures that fomented the company’s rapid expansion and growth.  Schraeder is an advocate for LGBTQ Equality and lives by the mantra\, “Don’t spend time with anyone or anywhere you can’t be your authentic self.” \nAbout TJ\nTJ Albert is the backbone of GumGum’s Global Compliance and Legal Affairs department. As a Global Compliance Officer\, TJ ensures that GumGum complies with state\, federal and international laws in all lines of business. TJ is committed to protecting the confidentiality\, integrity and availability of GumGum’s assets and those of its clients. Her hard work keeps clients safe from legal mishaps\, keeping their campaigns aligned with ever-shifting  global privacy standards. \nOur Location – Your Living Room.  Or Your Kitchen.\nWe don’t have location photos but hope you will find a comfortable spot to join us!
URL:https://lvima.com/events/apart-but-together-stay-educated-entertained-connected/
LOCATION:A Virtual Event\, Address Unknown\, Las Vegas and Henderson\, NV\, 89109\, United States
CATEGORIES:Educational
ATTACH;FMTTYPE=image/png:https://lvima.com/wp-content/uploads/2020/02/Apart-But-Together.png
END:VEVENT
BEGIN:VEVENT
DTSTART;TZID=America/Los_Angeles:20200305T183000
DTEND;TZID=America/Los_Angeles:20200305T203000
DTSTAMP:20260422T085604
CREATED:20200205T050222Z
LAST-MODIFIED:20200226T175556Z
UID:10000027-1583433000-1583440200@lvima.com
SUMMARY:2020 KickOff Mixer
DESCRIPTION:Game ON!\nLVIMA\, our co-hosts Causal IQ and Quantcast and our kick-off mixer are all about fun\, excitement and bringing people together! We found a venue that embodies all that and more! Come adventure with us at GameWorks in Town Square as we toast to the start of the year!\n\nJoin us for OPEN BAR\, yummy apps and GAMES (we know you love to compete!). Get your coolest socks ready because they’ll be on display as you slip into bowling shoes and show off your skills while reconnecting with old friends and meeting new ones. Rumor is Causal IQ will have all sorts of cool prizes for things like Best Team Name\, Best Socks\, etc.\nEvent Sponsor\nOur sponsors make LVIMA possible.  Thanks to Causal IQ for sponsoring this event! \n \nCausal IQ is a programmatic solutions provider stacked with digital marketing experts that don’t leave anything to chance. We create strategies that align with your vertical\, target audience\, and campaign goals to keep customers moving through the purchase funnel. Click here for more information. \nLVIMA Annual Sponsor\nQuantcast is on a mission to help brands grow in the AI era. We are creating the System of Intelligence for the marketing ecosystem so clients can make every customer engagement smarter\, faster and more relevant.  Click here for more information. \nOur Venue – Gameworks\nLet the games begin!  We’re meeting at Gameworks in Town Square!
URL:https://lvima.com/events/2020-kickoff-mixer/
LOCATION:Gameworks\, 6587 S Las Vegas Blvd Suite #171\, Las Vegas\, NV\, NV\, 89119\, United States
CATEGORIES:Mixer
ATTACH;FMTTYPE=image/png:https://lvima.com/wp-content/uploads/2020/02/2020-Kickoff-Mixer-v2.png
END:VEVENT
END:VCALENDAR